BEGIN:VCALENDAR
VERSION:2.0
PRODID:-//Mairie de Quistinic - ECPv6.0.6.2//NONSGML v1.0//EN
CALSCALE:GREGORIAN
METHOD:PUBLISH
X-WR-CALNAME:Mairie de Quistinic
X-ORIGINAL-URL:https://www.quistinic.fr
X-WR-CALDESC:Events for Mairie de Quistinic
REFRESH-INTERVAL;VALUE=DURATION:PT1H
X-Robots-Tag:noindex
X-PUBLISHED-TTL:PT1H
BEGIN:VTIMEZONE
TZID:Europe/Paris
BEGIN:DAYLIGHT
TZOFFSETFROM:+0100
TZOFFSETTO:+0200
TZNAME:CEST
DTSTART:20260329T010000
END:DAYLIGHT
BEGIN:STANDARD
TZOFFSETFROM:+0200
TZOFFSETTO:+0100
TZNAME:CET
DTSTART:20261025T010000
END:STANDARD
END:VTIMEZONE
BEGIN:VEVENT
DTSTART;TZID=Europe/Paris:20260423T110000
DTEND;TZID=Europe/Paris:20260423T120000
DTSTAMP:20260423T013717
CREATED:20260331T092902Z
LAST-MODIFIED:20260331T092902Z
UID:5055-1776942000-1776945600@www.quistinic.fr
SUMMARY:PERMANENCE FNATH
DESCRIPTION:Information FNATH Bubry-Guéméné \nPour les communes de Bubry\, Melrand\, Quistinic\, Inguiniel\, Guémené\, Locmalo\, Langoëlan\, Ploerdüt\, St Caradec-Trégomel\, Lignol\, Séglien\, Persquen\, Priziac\, Kernascléden\, Saint-Tugdual\, Le Croisty. \nPermanence de la section : Jeudi 23 avril 2026 de 11 heures à 12 heures\, salle de la mairie de Bubry. \nLa prochaine permanence sera le jeudi 28 mai 2026 de 11 h à 12h.
URL:https://www.quistinic.fr/evenement/permanence-fnath/
LOCATION:Mairie de Bubry\, place Macroom\, BUBRY\, 56310
ATTACH;FMTTYPE=image/jpeg:https://www.quistinic.fr/wp-content/uploads/2026/03/20171108145505.jpg
ORGANIZER;CN="FNATH":MAILTO:saulnier.daniel.fnath@gmail.com
END:VEVENT
END:VCALENDAR